BEGIN:VCALENDAR
VERSION:2.0
PRODID:-//Devpost\, Inc.//NeuroLogic '26: Global NLP Datathon//EN
CALSCALE:GREGORIAN
BEGIN:VTIMEZONE
TZID:Asia/Kolkata
BEGIN:STANDARD
DTSTART:19451014T230000
TZOFFSETFROM:+0630
TZOFFSETTO:+0530
TZNAME:IST
END:STANDARD
END:VTIMEZONE
BEGIN:VEVENT
DTSTAMP:20260423T005506Z
UID:853b64ac-b005-49e8-95a9-1acbfb323794
DTSTART;TZID=Asia/Kolkata:20260425T220000
DTEND;TZID=Asia/Kolkata:20260425T220000
DESCRIPTION:https://neurologic26.devpost.com/
SUMMARY:NeuroLogic '26: Global NLP Datathon submission deadline
BEGIN:VALARM
ACTION:DISPLAY
TRIGGER:-P7D
SUMMARY:Just 7 left days until the submission deadline!
END:VALARM
END:VEVENT
END:VCALENDAR
